BEGIN:VCALENDAR
VERSION:2.0
PRODID:-//Karatelandesverband Mecklenburg-Vorpommern e.V. - ECPv6.15.20//NONSGML v1.0//EN
CALSCALE:GREGORIAN
METHOD:PUBLISH
X-WR-CALNAME:Karatelandesverband Mecklenburg-Vorpommern e.V.
X-ORIGINAL-URL:https://klvmv.de
X-WR-CALDESC:Veranstaltungen für Karatelandesverband Mecklenburg-Vorpommern e.V.
REFRESH-INTERVAL;VALUE=DURATION:PT1H
X-Robots-Tag:noindex
X-PUBLISHED-TTL:PT1H
BEGIN:VTIMEZONE
TZID:Europe/Berlin
BEGIN:DAYLIGHT
TZOFFSETFROM:+0100
TZOFFSETTO:+0200
TZNAME:CEST
DTSTART:20190331T010000
END:DAYLIGHT
BEGIN:STANDARD
TZOFFSETFROM:+0200
TZOFFSETTO:+0100
TZNAME:CET
DTSTART:20191027T010000
END:STANDARD
BEGIN:DAYLIGHT
TZOFFSETFROM:+0100
TZOFFSETTO:+0200
TZNAME:CEST
DTSTART:20200329T010000
END:DAYLIGHT
BEGIN:STANDARD
TZOFFSETFROM:+0200
TZOFFSETTO:+0100
TZNAME:CET
DTSTART:20201025T010000
END:STANDARD
BEGIN:DAYLIGHT
TZOFFSETFROM:+0100
TZOFFSETTO:+0200
TZNAME:CEST
DTSTART:20210328T010000
END:DAYLIGHT
BEGIN:STANDARD
TZOFFSETFROM:+0200
TZOFFSETTO:+0100
TZNAME:CET
DTSTART:20211031T010000
END:STANDARD
END:VTIMEZONE
BEGIN:VEVENT
DTSTART;TZID=Europe/Berlin:20200620T140000
DTEND;TZID=Europe/Berlin:20200629T110000
DTSTAMP:20260424T132650
CREATED:20191024T095108Z
LAST-MODIFIED:20191024T104522Z
UID:749-1592661600-1593428400@klvmv.de
SUMMARY:Sommercamp Thiessow
DESCRIPTION:Unsere Ferienfreizeit für Kinder und Jugendliche zum Thema: “Thiessow – ein Steinzeitabenteuer”
URL:https://klvmv.de/event/sommercamp-thiessow/
LOCATION:Kreisschulheim Thiessow\, Hauptstr. 2\, Thiessow\, 18586\, Deutschland
CATEGORIES:Ferienfreizeit
ORGANIZER;CN="Karatelandesverband M-V e.V.":MAILTO:fnagel@t-online.de
END:VEVENT
END:VCALENDAR